BEGIN:VCALENDAR
VERSION:2.0
PRODID:-//Wilderness Health - ECPv6.15.11//NONSGML v1.0//EN
CALSCALE:GREGORIAN
METHOD:PUBLISH
X-WR-CALNAME:Wilderness Health
X-ORIGINAL-URL:https://wildernesshealthmn.org
X-WR-CALDESC:Events for Wilderness Health
REFRESH-INTERVAL;VALUE=DURATION:PT1H
X-Robots-Tag:noindex
X-PUBLISHED-TTL:PT1H
BEGIN:VTIMEZONE
TZID:America/Chicago
BEGIN:DAYLIGHT
TZOFFSETFROM:-0600
TZOFFSETTO:-0500
TZNAME:CDT
DTSTART:20230312T080000
END:DAYLIGHT
BEGIN:STANDARD
TZOFFSETFROM:-0500
TZOFFSETTO:-0600
TZNAME:CST
DTSTART:20231105T070000
END:STANDARD
BEGIN:DAYLIGHT
TZOFFSETFROM:-0600
TZOFFSETTO:-0500
TZNAME:CDT
DTSTART:20240310T080000
END:DAYLIGHT
BEGIN:STANDARD
TZOFFSETFROM:-0500
TZOFFSETTO:-0600
TZNAME:CST
DTSTART:20241103T070000
END:STANDARD
BEGIN:DAYLIGHT
TZOFFSETFROM:-0600
TZOFFSETTO:-0500
TZNAME:CDT
DTSTART:20250309T080000
END:DAYLIGHT
BEGIN:STANDARD
TZOFFSETFROM:-0500
TZOFFSETTO:-0600
TZNAME:CST
DTSTART:20251102T070000
END:STANDARD
END:VTIMEZONE
BEGIN:VEVENT
DTSTART;TZID=America/Chicago:20241210T083000
DTEND;TZID=America/Chicago:20241210T090000
DTSTAMP:20260423T033938
CREATED:20230221T202335Z
LAST-MODIFIED:20230221T202335Z
UID:18433-1733819400-1733821200@wildernesshealthmn.org
SUMMARY:Executive Committee
DESCRIPTION:
URL:/event/executive-committee/2024-12-10/
END:VEVENT
BEGIN:VEVENT
DTSTART;TZID=America/Chicago:20241212T110000
DTEND;TZID=America/Chicago:20241212T120000
DTSTAMP:20260423T033938
CREATED:20230221T211532Z
LAST-MODIFIED:20230221T211532Z
UID:18454-1734001200-1734004800@wildernesshealthmn.org
SUMMARY:Telehealth Committee
DESCRIPTION:
URL:/event/telehealth-committee/2024-12-12/
END:VEVENT
END:VCALENDAR