BEGIN:VCALENDAR
VERSION:2.0
PRODID:-//Wilderness Health - ECPv6.15.11//NONSGML v1.0//EN
CALSCALE:GREGORIAN
METHOD:PUBLISH
X-ORIGINAL-URL:https://wildernesshealthmn.org
X-WR-CALDESC:Events for Wilderness Health
REFRESH-INTERVAL;VALUE=DURATION:PT1H
X-Robots-Tag:noindex
X-PUBLISHED-TTL:PT1H
BEGIN:VTIMEZONE
TZID:America/Chicago
BEGIN:DAYLIGHT
TZOFFSETFROM:-0600
TZOFFSETTO:-0500
TZNAME:CDT
DTSTART:20230312T080000
END:DAYLIGHT
BEGIN:STANDARD
TZOFFSETFROM:-0500
TZOFFSETTO:-0600
TZNAME:CST
DTSTART:20231105T070000
END:STANDARD
BEGIN:DAYLIGHT
TZOFFSETFROM:-0600
TZOFFSETTO:-0500
TZNAME:CDT
DTSTART:20240310T080000
END:DAYLIGHT
BEGIN:STANDARD
TZOFFSETFROM:-0500
TZOFFSETTO:-0600
TZNAME:CST
DTSTART:20241103T070000
END:STANDARD
BEGIN:DAYLIGHT
TZOFFSETFROM:-0600
TZOFFSETTO:-0500
TZNAME:CDT
DTSTART:20250309T080000
END:DAYLIGHT
BEGIN:STANDARD
TZOFFSETFROM:-0500
TZOFFSETTO:-0600
TZNAME:CST
DTSTART:20251102T070000
END:STANDARD
END:VTIMEZONE
BEGIN:VEVENT
DTSTART;TZID=America/Chicago:20240923T110000
DTEND;TZID=America/Chicago:20240923T120000
DTSTAMP:20260423T064539
CREATED:20230221T211424Z
LAST-MODIFIED:20230221T211424Z
UID:18442-1727089200-1727092800@wildernesshealthmn.org
SUMMARY:SDoH Committee
DESCRIPTION:
URL:/event/sdoh-committee/2024-09-23/
END:VEVENT
BEGIN:VEVENT
DTSTART;TZID=America/Chicago:20240925T120000
DTEND;TZID=America/Chicago:20240925T130000
DTSTAMP:20260423T064539
CREATED:20230221T214534Z
LAST-MODIFIED:20230221T214534Z
UID:18492-1727265600-1727269200@wildernesshealthmn.org
SUMMARY:Wilderness Health Orientation
DESCRIPTION:
URL:/event/wilderness-health-orientation/2024-09-25/
END:VEVENT
END:VCALENDAR