BEGIN:VCALENDAR
VERSION:2.0
PRODID:-//Wilderness Health - ECPv6.15.11//NONSGML v1.0//EN
CALSCALE:GREGORIAN
METHOD:PUBLISH
X-WR-CALNAME:Wilderness Health
X-ORIGINAL-URL:https://wildernesshealthmn.org
X-WR-CALDESC:Events for Wilderness Health
REFRESH-INTERVAL;VALUE=DURATION:PT1H
X-Robots-Tag:noindex
X-PUBLISHED-TTL:PT1H
BEGIN:VTIMEZONE
TZID:America/Chicago
BEGIN:DAYLIGHT
TZOFFSETFROM:-0600
TZOFFSETTO:-0500
TZNAME:CDT
DTSTART:20230312T080000
END:DAYLIGHT
BEGIN:STANDARD
TZOFFSETFROM:-0500
TZOFFSETTO:-0600
TZNAME:CST
DTSTART:20231105T070000
END:STANDARD
BEGIN:DAYLIGHT
TZOFFSETFROM:-0600
TZOFFSETTO:-0500
TZNAME:CDT
DTSTART:20240310T080000
END:DAYLIGHT
BEGIN:STANDARD
TZOFFSETFROM:-0500
TZOFFSETTO:-0600
TZNAME:CST
DTSTART:20241103T070000
END:STANDARD
BEGIN:DAYLIGHT
TZOFFSETFROM:-0600
TZOFFSETTO:-0500
TZNAME:CDT
DTSTART:20250309T080000
END:DAYLIGHT
BEGIN:STANDARD
TZOFFSETFROM:-0500
TZOFFSETTO:-0600
TZNAME:CST
DTSTART:20251102T070000
END:STANDARD
END:VTIMEZONE
BEGIN:VEVENT
DTSTART;TZID=America/Chicago:20240611T083000
DTEND;TZID=America/Chicago:20240611T090000
DTSTAMP:20260423T065623
CREATED:20230221T202335Z
LAST-MODIFIED:20230221T202335Z
UID:18427-1718094600-1718096400@wildernesshealthmn.org
SUMMARY:Executive Committee
DESCRIPTION:
URL:/event/executive-committee/2024-06-11/
END:VEVENT
BEGIN:VEVENT
DTSTART;TZID=America/Chicago:20240613T110000
DTEND;TZID=America/Chicago:20240613T120000
DTSTAMP:20260423T065623
CREATED:20230221T211532Z
LAST-MODIFIED:20230221T211532Z
UID:18451-1718276400-1718280000@wildernesshealthmn.org
SUMMARY:Telehealth Committee
DESCRIPTION:
URL:/event/telehealth-committee/2024-06-13/
END:VEVENT
BEGIN:VEVENT
DTSTART;TZID=America/Chicago:20240618T103000
DTEND;TZID=America/Chicago:20240618T120000
DTSTAMP:20260423T065623
CREATED:20230221T202134Z
LAST-MODIFIED:20230221T202134Z
UID:18373-1718706600-1718712000@wildernesshealthmn.org
SUMMARY:Wilderness Health Board of Directors Meeting
DESCRIPTION:Monthly meeting of Wilderness Health's member facilities representatives.
URL:/event/wilderness-health-board-of-directors-meeting/2024-06-18/
CATEGORIES:Meeting
END:VEVENT
BEGIN:VEVENT
DTSTART;TZID=America/Chicago:20240624T110000
DTEND;TZID=America/Chicago:20240624T120000
DTSTAMP:20260423T065623
CREATED:20230221T211424Z
LAST-MODIFIED:20230221T211424Z
UID:18441-1719226800-1719230400@wildernesshealthmn.org
SUMMARY:SDoH Committee
DESCRIPTION:
URL:/event/sdoh-committee/2024-06-24/
END:VEVENT
BEGIN:VEVENT
DTSTART;TZID=America/Chicago:20240626T120000
DTEND;TZID=America/Chicago:20240626T130000
DTSTAMP:20260423T065623
CREATED:20230221T214534Z
LAST-MODIFIED:20230221T214534Z
UID:18489-1719403200-1719406800@wildernesshealthmn.org
SUMMARY:Wilderness Health Orientation
DESCRIPTION:
URL:/event/wilderness-health-orientation/2024-06-26/
END:VEVENT
END:VCALENDAR